BEGIN:VCALENDAR
VERSION:2.0
METHOD:PUBLISH
BEGIN:VEVENT
ORGANIZER:MAILTO:
DTSTART:20260511T130000Z
DTEND:20260515T213000Z
LOCATION:9AM-5PM AEST
SUMMARY:Appian Developer
DESCRIPTION;ENCODING=QUOTED-PRINTABLE:Learn the mechanics and best tools to design intuitive applications. In our 5-day course, we will cover the fundamentals of Appian application design by providing practical experience with designing objects, processes, data management, and deployment methods. \n \n Prerequisites: None \n \n Enroll 2 (two) US business days before the session start date to confirm your seat in the course. To ensure a good learner experience for all registered in the course, we will not accept registrations after this time. \n \n All sessions are delivered remotely. \n \n List Price (AUD): $2,225 \n Training Credits: 5 \n Course ID: 2902 (for reference)
X-ALT-DESC;FMTTYPE=text/html:<html><body><p><span>Learn the mechanics and best tools to design intuitive applications. In our 5-day course, we will cover the fundamentals of Appian application design by providing practical experience with designing objects, processes, data management, and deployment methods.</span></p><p></p><p><span>Prerequisites: None</span></p><p></p><p><b>Enroll 2 (two) US business days before the session start date to confirm your seat in the course. To ensure a good learner experience for all registered in the course, we will not accept registrations after this time.&nbsp;</b></p><p></p><p><span>All sessions are delivered remotely.</span></p><p></p><p><b>List Price (AUD): $2,225</b></p><p><b>Training Credits: 5</b></p><p style="display:none;">Course ID: 2902 (for reference)</p></body></html>
CLASS:PUBLIC
END:VEVENT
END:VCALENDAR