BEGIN:VCALENDAR
VERSION:2.0
METHOD:PUBLISH
BEGIN:VEVENT
ORGANIZER:MAILTO:
DTSTART:20240220T140000Z
DTEND:20240223T170000Z
LOCATION:Central European Time Zone (3PM-6PM)
SUMMARY:Appian Application Administrator
DESCRIPTION;ENCODING=QUOTED-PRINTABLE:The Application Administrator course is designed for IT professionals who are not Appian Developers and are responsible for maintaining and monitoring one or more running applications. In this 4 half-day course, we will cover how to proactively monitor application health and identify issues, manage user access and permissions, receive and triage user issues, troubleshoot light issues, and understand Appian support systems and resources. \n \n Prerequisites: None \n \n Please enroll in this course by 5pm CET on February 15th to confirm your seat in the course. To ensure a good learner experience for all registered in the course we will not accept registrations after that date. \n \n All Classroom Sessions will be delivered remotely until further notice. \n \n List Price (USD): $1800 \n Training Credits: 2 \n Course ID: 2503 (for reference)
X-ALT-DESC;FMTTYPE=text/html:<html><body><p><span style="font-weight:400;">The Application Administrator course is designed for IT professionals who are not Appian Developers and are responsible for maintaining and monitoring one or more running applications. In this 4 half-day course, we will cover how to proactively monitor application health and identify issues, manage user access and permissions, receive and triage user issues, troubleshoot light issues, and understand Appian support systems and resources.&nbsp;</span></p><p></p><p>Prerequisites: None</p><p><span style="font-weight:400;"></span></p><p><strong>Please enroll in this course by 5pm CET on February 15th to confirm your seat in the course. To ensure a good learner experience for all registered in the course we will not accept registrations after that date.</strong></p><p><span style="font-weight:400;"></span></p><p><em><span style="font-weight:400;">All Classroom Sessions will be delivered remotely until further notice.</span></em></p><p><em><span style="font-weight:400;"></span></em></p><p><strong>List Price (USD): $1800</strong></p><p><strong>Training Credits: 2</strong></p><p style="display:none;">Course ID: 2503 (for reference)</p></body></html>
CLASS:PUBLIC
END:VEVENT
END:VCALENDAR