BEGIN:VCALENDAR
VERSION:2.0
METHOD:PUBLISH
BEGIN:VEVENT
ORGANIZER:MAILTO:
DTSTART:20240220T130000Z
DTEND:20240223T170000Z
LOCATION:Eastern Standard Time Zone (8AM-12PM)
SUMMARY:Appian Applied User Interfaces
DESCRIPTION;ENCODING=QUOTED-PRINTABLE:An application&rsquo;s interface can make or break a user&#39;s experience. User experience means adoption, adoption means success. Yet creating harmonious and intuitive interfaces is hard. With Applied User Interfaces, learn by doing. Over 4 consecutive half-days, dive in a practice-first training with the help of an instructor. By the end of the course you will have: used advanced interface components, practiced creation of dynamic interfaces, troubleshot and fixed broken interfaces. You&#39;ll have the essential arsenal of skills for a developer improving the interfaces they build. \n Pre-Reqs: Appian Developer training and Advanced User Experience course \n \n Please enroll in this course by 5pm EST on February 15th to confirm your seat in the course. To ensure a good learner experience for all registered in the course we will not accept registrations after that date. \n \n All Classroom Sessions will be delivered remotely until further notice. \n \n List Price (USD): $1800 \n Training Credits: 2 \n Course ID: 2502 (for reference)
X-ALT-DESC;FMTTYPE=text/html:<html><body><p>An application&rsquo;s interface can make or break a user&#39;s experience. User experience means adoption, adoption means success. Yet creating harmonious and intuitive interfaces is hard. With Applied User Interfaces, learn by doing. Over 4 consecutive half-days, dive in a practice-first training with the help of an instructor. By the end of the course you will have: used advanced interface components, practiced creation of dynamic interfaces, troubleshot and fixed broken interfaces. You&#39;ll have the essential arsenal of skills for a developer improving the interfaces they build.</p><p><strong>Pre-Reqs:&nbsp;</strong>Appian Developer training and Advanced User Experience course</p><p></p><p><strong>Please enroll in this course by 5pm EST on February 15th to confirm your seat in the course. To ensure a good learner experience for all registered in the course we will not accept registrations after that date.</strong></p><p><span></span></p><p><span><em>All Classroom Sessions will be delivered remotely until further notice.</em></span></p><p><span><em></em></span></p><div><span><strong>List Price&nbsp;</strong></span><span><strong>(USD): $1800</strong></span></div><div><span><strong>Training Credits: 2</strong></span></div><p style="display:none;">Course ID: 2502 (for reference)</p></body></html>
CLASS:PUBLIC
END:VEVENT
END:VCALENDAR