BEGIN:VCALENDAR
VERSION:2.0
METHOD:PUBLISH
BEGIN:VEVENT
ORGANIZER:MAILTO:
DTSTART:20260608T120000Z
DTEND:20260611T160000Z
LOCATION:8AM-12PM ET 1-5PM BST 2-6PM CEST
SUMMARY:Applied RPA
DESCRIPTION;ENCODING=QUOTED-PRINTABLE:16 Sep 2024 to 18 Sep 2024 \n Central European Time Zone (9AM - 5PM) \n This course builds on knowledge gained in the Developer course as well as Appian&rsquo;s online RPA training available through Academy Online. This course walks students through the architecture, planning, estimation, and creation of Appian RPA bots while also providing best practices for successful deployments. \n Prerequisites: Appian Developer and Robotic Process Automation courses. \n Enroll 2 (two) US business days before the session start date to confirm your seat in the course. To ensure a good learner experience for all registered in the course, we will not accept registrations after this time. \n All sessions are delivered remotely. \n List Price (USD): $1800 \n Training Credits: 3 \n Course ID: 2883 (for reference)
X-ALT-DESC;FMTTYPE=text/html:<html><body><p><span style="font-weight:400;">16 Sep 2024 to 18 Sep 2024</span></p><p><span style="font-weight:400;">Central European Time Zone (9AM - 5PM)</span></p><p><span style="font-weight:400;">This course builds on knowledge gained in the Developer course as well as Appian&rsquo;s online RPA training available through Academy Online. This course walks students through the architecture, planning, estimation, and creation of Appian RPA bots while also providing best practices for successful deployments.</span></p><p><span style="font-weight:400;">Prerequisites: </span><a href="https://community.appian.com/learn/courses/p/developer"><span style="font-weight:400;">Appian Developer</span></a><span style="font-weight:400;"> and </span><a href="https://academy.appian.com/#/curricula/64f7d652-35bf-4d7a-9a24-84e00f38126d"><span style="font-weight:400;">Robotic Process Automation</span></a><span style="font-weight:400;"> courses.</span></p><p><b>Enroll 2 (two) US business days before the session start date to confirm your seat in the course. To ensure a good learner experience for all registered in the course, we will not accept registrations after this time.&nbsp;</b></p><p><span style="font-weight:400;">All sessions are delivered remotely.</span></p><p><b>List Price (USD): $1800</b></p><p><b>Training Credits: 3</b></p><p style="display:none;">Course ID: 2883 (for reference)</p></body></html>
CLASS:PUBLIC
END:VEVENT
END:VCALENDAR