BEGIN:VCALENDAR
VERSION:2.0
METHOD:PUBLISH
BEGIN:VEVENT
ORGANIZER:MAILTO:
DTSTART:20260512T130000Z
DTEND:20260703T203000Z
LOCATION:9-11AM ET, 2-4PM BST, 3-5PM CEST
SUMMARY:Accelerated Senior Developer
DESCRIPTION;ENCODING=QUOTED-PRINTABLE:Sessions meet weekly on every Tuesdays/Fridays. \n \n This course takes place over eight weeks. Each week consists of a combination of instructor-led sessions as well as independent practice and self-learning on the part of the student. Instructors meet with the cohort for two-hour sessions, twice per week to deliver new topics, review concepts, and answer questions. Students should plan to spend approximately 10 hours per week learning during this course. \n Every participant who successfully completes the course will receive up to two exam vouchers to attempt an Appian certification exam. \n \n Prerequisites: Appian Developer course. \n \n Enroll 2 (two) US business days before the session start date to confirm your seat in the course. To ensure a good learner experience for all registered in the course, we will not accept registrations after this time. \n \n All sessions are delivered remotely. \n \n List Price (USD): $3000 \n Training Credits: 6 \n Course ID: 2907 (for reference)
X-ALT-DESC;FMTTYPE=text/html:<html><body><p><span style="font-weight:400;">Sessions meet weekly on every Tuesdays/Fridays.&nbsp;</span></p><p><span style="font-weight:400;"></span></p><p><span style="font-weight:400;">This course takes place over eight weeks. Each week consists of a combination of instructor-led sessions as well as independent practice and self-learning on the part of the student. Instructors meet with the cohort for two-hour sessions, twice per week to deliver new topics, review concepts, and answer questions. Students should plan to spend approximately 10 hours per week learning during this course.</span></p><p><span style="font-weight:400;">Every participant who successfully completes the course will receive up to two exam vouchers to attempt an Appian certification exam.</span></p><p></p><p><span style="font-weight:400;">Prerequisites: </span><a href="https://community.appian.com/learn/courses/p/developer"><span style="font-weight:400;">Appian Developer</span></a><span style="font-weight:400;"> course.</span></p><p></p><p><b>Enroll 2 (two) US business days before the session start date to confirm your seat in the course. To ensure a good learner experience for all registered in the course, we will not accept registrations after this time.&nbsp;</b></p><p></p><p><span style="font-weight:400;">All sessions are delivered remotely.</span></p><p></p><p><b>List Price (USD): $3000</b></p><p><b>Training Credits: 6</b></p><p style="display:none;">Course ID: 2907 (for reference)</p></body></html>
CLASS:PUBLIC
END:VEVENT
END:VCALENDAR